102.0075042005
0.0000000000
0.0000000000
-102.0075042005
256975.9037929164
4644743.4490936473
